BEGIN:VCALENDAR
VERSION:2.0
PRODID:-//Friends of Congleton Park - ECPv6.14.2//NONSGML v1.0//EN
CALSCALE:GREGORIAN
METHOD:PUBLISH
X-WR-CALNAME:Friends of Congleton Park
X-ORIGINAL-URL:https://friendsofcongletonpark.co.uk
X-WR-CALDESC:Events for Friends of Congleton Park
REFRESH-INTERVAL;VALUE=DURATION:PT1H
X-Robots-Tag:noindex
X-PUBLISHED-TTL:PT1H
BEGIN:VTIMEZONE
TZID:UTC
BEGIN:STANDARD
TZOFFSETFROM:+0000
TZOFFSETTO:+0000
TZNAME:UTC
DTSTART:20240101T000000
END:STANDARD
END:VTIMEZONE
BEGIN:VEVENT
DTSTART;TZID=UTC:20240804T143000
DTEND;TZID=UTC:20240804T160000
DTSTAMP:20260420T014239
CREATED:20240709T192644Z
LAST-MODIFIED:20240709T192644Z
UID:229-1722781800-1722787200@friendsofcongletonpark.co.uk
SUMMARY:The Encores 50's & 60's Band
DESCRIPTION:The Encores – a 3 / 4 piece Tribute band who play the best of the 50’s & 60’s cover hits such as The Kinks\, The Shadows\, Dave Clarke & The Beatles\, don’t miss it!
URL:https://friendsofcongletonpark.co.uk/event/the-encores-50s-60s-band/
LOCATION:Congleton Park\, Congleton Park\, Congleton\, Cheshire\, United Kingdom
CATEGORIES:Musical Events
ATTACH;FMTTYPE=image/png:https://friendsofcongletonpark.co.uk/wp-content/uploads/2024/07/Music-Festival-Facebook-Event-Cover-2.png
END:VEVENT
END:VCALENDAR