BEGIN:VCALENDAR
VERSION:2.0
PRODID:-//Friends of Congleton Park - ECPv6.14.2//NONSGML v1.0//EN
CALSCALE:GREGORIAN
METHOD:PUBLISH
X-WR-CALNAME:Friends of Congleton Park
X-ORIGINAL-URL:https://friendsofcongletonpark.co.uk
X-WR-CALDESC:Events for Friends of Congleton Park
REFRESH-INTERVAL;VALUE=DURATION:PT1H
X-Robots-Tag:noindex
X-PUBLISHED-TTL:PT1H
BEGIN:VTIMEZONE
TZID:UTC
BEGIN:STANDARD
TZOFFSETFROM:+0000
TZOFFSETTO:+0000
TZNAME:UTC
DTSTART:20240101T000000
END:STANDARD
END:VTIMEZONE
BEGIN:VEVENT
DTSTART;TZID=UTC:20240811T140000
DTEND;TZID=UTC:20240811T160000
DTSTAMP:20260420T015242
CREATED:20240709T194324Z
LAST-MODIFIED:20240709T194324Z
UID:232-1723384800-1723392000@friendsofcongletonpark.co.uk
SUMMARY:Beartown Singers
DESCRIPTION:
URL:https://friendsofcongletonpark.co.uk/event/beartown-singers/
CATEGORIES:Musical Events
ATTACH;FMTTYPE=image/png:https://friendsofcongletonpark.co.uk/wp-content/uploads/2024/07/Music-Festival-Facebook-Event-Cover-3.png
END:VEVENT
END:VCALENDAR