BEGIN:VCALENDAR
VERSION:2.0
PRODID:-//Friends of Congleton Park - ECPv6.14.2//NONSGML v1.0//EN
CALSCALE:GREGORIAN
METHOD:PUBLISH
X-ORIGINAL-URL:https://friendsofcongletonpark.co.uk
X-WR-CALDESC:Events for Friends of Congleton Park
REFRESH-INTERVAL;VALUE=DURATION:PT1H
X-Robots-Tag:noindex
X-PUBLISHED-TTL:PT1H
BEGIN:VTIMEZONE
TZID:UTC
BEGIN:STANDARD
TZOFFSETFROM:+0000
TZOFFSETTO:+0000
TZNAME:UTC
DTSTART:20240101T000000
END:STANDARD
END:VTIMEZONE
BEGIN:VEVENT
DTSTART;TZID=UTC:20240511T120000
DTEND;TZID=UTC:20240512T180000
DTSTAMP:20260422T062139
CREATED:20240424T200038Z
LAST-MODIFIED:20240424T200038Z
UID:63-1715428800-1715536800@friendsofcongletonpark.co.uk
SUMMARY:JK's KIDZ WORLD FUN PARK
DESCRIPTION:WELCOME TO JK’s KIDZ WORLD FUN WEEKEND – Kids Inflatables – MEGA Inflatables – Kids Rides – Food & Drink Stalls – Face Painting \nWHAT WILL BE THERE? \n– Kids Inflatables\n– Kids InflatablesMEGA Inflatables\n– Kids InflatablesKids Rides\n– Kids InflatablesFood & Drink stalls\n– Kids InflatablesFace Painting & Entertainment \nHOW MUCH DOES IT COST? \nEntry is FREE\n– Kids InflatablesInflatable attractions are on tokens and most are 1 Token\n(some special attractions may require 2 Tokens)\n– Kids InflatablesKids fair rides range from just £2 (not on tokens) \nHOW DO I BUY TOKENS?\nKids InflatablesYou can pay on the day or purchase in advance online and receive special discounts. (Ticket link in Facebook event) \nDO YOU ACCEPT CARD?\nYes\, payment can be made by either cash or card \nWe will be updating you over the coming week about what attractions we will have. \nThanks for your continued support. \nJK Team.
URL:https://friendsofcongletonpark.co.uk/event/jks-kidz-world-fun-park/
LOCATION:Congleton Park\, Congleton Park\, Congleton\, Cheshire\, United Kingdom
CATEGORIES:Town Events
ATTACH;FMTTYPE=image/png:https://friendsofcongletonpark.co.uk/wp-content/uploads/2024/04/kidz-inflatables.png
END:VEVENT
END:VCALENDAR